OziExplorer Map Data File Version 2.2
kosmo.jpg
C:\Походы\Планы\НГ2008\Бежаницкая возв\Карты\kosmo.jpg
1 ,Map Code,
WGS 84,, 0.0000, 0.0000,WGS 84
Reserved 1
Reserved 2
Magnetic Variation,,,E
Map Projection,Mercator,PolyCal,No,AutoCalOnly,No,BSBUseWPX,No
Point01,xy, 0, 0,in, deg, 57, 10.00000,N, 29, 0.00000,E, grid, , , ,N
Point02,xy, 5825, 8854,in, deg, 56, 20.00305,N, 29, 59.99313,E, grid, , , ,N
Point03,xy, 0, 8854,in, deg, 56, 20.00305,N, 29, 0.00000,E, grid, , , ,N
Point04,xy, 5825, 0,in, deg, 57, 10.00000,N, 29, 59.99313,E, grid, , , ,N
Point05,xy, 2912, 4427,in, deg, 56, 45.14078,N, 29, 29.99016,E, grid, , , ,N
Point06,xy, 2912, 0,in, deg, 57, 10.00000,N, 29, 29.99016,E, grid, , , ,N
Point07,xy, 0, 4427,in, deg, 56, 45.14078,N, 29, 0.00000,E, grid, , , ,N
Point08,xy, 5825, 4427,in, deg, 56, 45.14078,N, 29, 59.99313,E, grid, , , ,N
Point09,xy, 2912, 8854,in, deg, 56, 20.00305,N, 29, 29.99016,E, grid, , , ,N
Point10,xy, , ,in, deg, , ,N, , ,W, grid, , , ,N
Point11,xy, , ,in, deg, , ,N, , ,W, grid, , , ,N
Point12,xy, , ,in, deg, , ,N, , ,W, grid, , , ,N
Point13,xy, , ,in, deg, , ,N, , ,W, grid, , , ,N
Point14,xy, , ,in, deg, , ,N, , ,W, grid, , , ,N
Point15,xy, , ,in, deg, , ,N, , ,W, grid, , , ,N
Point16,xy, , ,in, deg, , ,N, , ,W, grid, , , ,N
Point17,xy, , ,in, deg, , ,N, , ,W, grid, , , ,N
Point18,xy, , ,in, deg, , ,N, , ,W, grid, , , ,N
Point19,xy, , ,in, deg, , ,N, , ,W, grid, , , ,N
Point20,xy, , ,in, deg, , ,N, , ,W, grid, , , ,N
Point21,xy, , ,in, deg, , ,N, , ,W, grid, , , ,N
Point22,xy, , ,in, deg, , ,N, , ,W, grid, , , ,N
Point23,xy, , ,in, deg, , ,N, , ,W, grid, , , ,N
Point24,xy, , ,in, deg, , ,N, , ,W, grid, , , ,N
Point25,xy, , ,in, deg, , ,N, , ,W, grid, , , ,N
Point26,xy, , ,in, deg, , ,N, , ,W, grid, , , ,N
Point27,xy, , ,in, deg, , ,N, , ,W, grid, , , ,N
Point28,xy, , ,in, deg, , ,N, , ,W, grid, , , ,N
Point29,xy, , ,in, deg, , ,N, , ,W, grid, , , ,N
Point30,xy, , ,in, deg, , ,N, , ,W, grid, , , ,N
Projection Setup,,,,,,,,,,
Map Feature = MF ; Map Comment = MC These follow if they exist
Track File = TF These follow if they exist
Moving Map Parameters = MM? These follow if they exist
MM0,No
MMPNUM,4
MMPXY,1,0,0
MMPXY,2,5825,0
MMPXY,3,5825,8854
MMPXY,4,0,8854
MMPLL,1, 29.000000, 57.166667
MMPLL,2, 29.999886, 57.166667
MMPLL,3, 29.999886, 56.333384
MMPLL,4, 29.000000, 56.333384
MOP,Map Open Position,0,0
IWH,Map Image Width/Height,5825,8854
